BEGIN:VCALENDAR
VERSION:2.0
PRODID:-//KING AND QUEEN ACADEMY - ECPv6.15.16//NONSGML v1.0//EN
CALSCALE:GREGORIAN
METHOD:PUBLISH
X-WR-CALNAME:KING AND QUEEN ACADEMY
X-ORIGINAL-URL:https://kingandqueenchessacademy.com
X-WR-CALDESC:Events for KING AND QUEEN ACADEMY
REFRESH-INTERVAL;VALUE=DURATION:PT1H
X-Robots-Tag:noindex
X-PUBLISHED-TTL:PT1H
BEGIN:VTIMEZONE
TZID:UTC
BEGIN:STANDARD
TZOFFSETFROM:+0000
TZOFFSETTO:+0000
TZNAME:UTC
DTSTART:20240101T000000
END:STANDARD
END:VTIMEZONE
BEGIN:VEVENT
DTSTART;VALUE=DATE:20250901
DTEND;VALUE=DATE:20250902
DTSTAMP:20260420T133435
CREATED:20250603T052319Z
LAST-MODIFIED:20250604T094901Z
UID:757-1756684800-1756771199@kingandqueenchessacademy.com
SUMMARY:Seattle Chess Day – Outdoor Demo & Play
DESCRIPTION:An open-air chess event featuring live demonstrations\, giant chess boards\, and beginner-friendly challenges. All ages welcome!
URL:https://kingandqueenchessacademy.com/event/seattle-chess-day-outdoor-demo-play/
LOCATION:Westlake Park\, Seattle\, WA
ATTACH;FMTTYPE=image/webp:https://kingandqueenchessacademy.com/wp-content/uploads/2025/05/King_and_Queen_Chess_Academy_image2-copy.webp
END:VEVENT
BEGIN:VEVENT
DTSTART;TZID=UTC:20250817T080000
DTEND;TZID=UTC:20250817T170000
DTSTAMP:20260420T133435
CREATED:20250603T052142Z
LAST-MODIFIED:20250604T094832Z
UID:753-1755417600-1755450000@kingandqueenchessacademy.com
SUMMARY:Texas State Chess  & Community Meetup
DESCRIPTION:A community chess day with live demos\, classic match replays\, and analysis commentary. Casual play area available for all attendees.
URL:https://kingandqueenchessacademy.com/event/texas-state-chess-community-meetup/
LOCATION:Austin Public Library\, Austin\, TX
ATTACH;FMTTYPE=image/webp:https://kingandqueenchessacademy.com/wp-content/uploads/2025/06/What-We-Offer_King_And_Queen_Chess_Academy-copy.webp
END:VEVENT
BEGIN:VEVENT
DTSTART;VALUE=DATE:20250715
DTEND;VALUE=DATE:20250716
DTSTAMP:20260420T133435
CREATED:20250603T051212Z
LAST-MODIFIED:20250603T051212Z
UID:746-1752537600-1752623999@kingandqueenchessacademy.com
SUMMARY:San Francisco Kids Chess Workshop & Exhibition
DESCRIPTION:A family-friendly chess event where kids can watch top juniors in action and try out demo boards. Interactive lessons and mini blitz games will be held.
URL:https://kingandqueenchessacademy.com/event/san-francisco-kids-chess-workshop-exhibition/
END:VEVENT
BEGIN:VEVENT
DTSTART;VALUE=DATE:20250710
DTEND;VALUE=DATE:20250711
DTSTAMP:20260420T133435
CREATED:20250603T044856Z
LAST-MODIFIED:20250603T044856Z
UID:723-1752105600-1752191999@kingandqueenchessacademy.com
SUMMARY:New York City Rapid Chess
DESCRIPTION:Join us for an exciting rapid chess demo featuring local champions and instructors. Perfect for beginners and enthusiasts to observe\, learn strategies\, and engage with NYC’s vibrant chess scene.
URL:https://kingandqueenchessacademy.com/event/new-york-city-rapid-chess/
LOCATION:Chess Forum\, 219 Thompson St\, New York\, NY\, Chess Forum\, 219 Thompson St\, New York\, NY\, United States
END:VEVENT
BEGIN:VEVENT
DTSTART;TZID=UTC:20250603T080000
DTEND;TZID=UTC:20250803T170000
DTSTAMP:20260420T133435
CREATED:20250603T051856Z
LAST-MODIFIED:20250603T051856Z
UID:749-1748937600-1754240400@kingandqueenchessacademy.com
SUMMARY:Chicago Chess Simul & Masterclass
DESCRIPTION:Watch National Masters play simultaneous games and share insights in an open Q&A. Great opportunity to explore real-time strategic thinking.
URL:https://kingandqueenchessacademy.com/event/chicago-chess-simul-masterclass/
LOCATION:Harold Washington Library Center\, Chicago\, IL
END:VEVENT
END:VCALENDAR